BEGIN:VCALENDAR
VERSION:2.0
PRODID:-//wp-events-plugin.com//7.2.3.1//EN
BEGIN:VEVENT
UID:102@forresheritage.co.uk
DTSTART;TZID=Europe/London:20250927T183000
DTEND;TZID=Europe/London:20250927T200000
DTSTAMP:20250820T080628Z
URL:https://forresheritage.co.uk/events/%f0%9f%8c%85-sunset-ceremony-at-ne
 lsons-tower-%f0%9f%8c%85/
SUMMARY:🌅 Sunset Ceremony at Nelson’s Tower 🌅
DESCRIPTION:As the seasonal opening of Nelson’s Tower draws to a close\, 
 we warmly invite you to a special evening event to mark the occasion.\n\nT
 ake in the breathtaking sunset views from the top of the tower and join us
  in raising a toast to Admiral Lord Nelson himself.\n\nAt 7:00pm\, FHT vol
 unteer Lily Carmichael will mark the moment with a stirring performance on
  the pipes as the flag is ceremonially lowered against the setting sun.\n\
 n🕰️ Tour Details:\n• Tours will run every 20 minutes starting at 6:
 30pm and subsequently 7.00\, 7.30 and 8.00. Each tour costs £5pp\n• The
  7:00pm tour will include the official flag-lowering ceremony\n• Each gr
 oup will be led in a toast to Lord Nelson by a Trust volunteer upon descen
 ding the Tower\n• Last entry is at 8:00pm\n• Please note: Each time sl
 ot is limited to 8 people to ensure a safe and enjoyable experience\n\nCom
 e and be part of this atmospheric tribute as we salute history\, heritage\
 , and the end of another summer season.\n\nBooking is essential for this e
 vent here: www.ticketsource.co.uk/forres-heritage-trust\n\nIn the case of
  bad weather\, a decision will be made at 4pm as to whether the evening wi
 ll go ahead and we will contact attendees via TicketSource by 4.30pm.\n\nI
 t is recommended that you carry a good torch and wear suitable footwear fo
 r the walk-up Cluny Hill\n\nNelson’s Tower will officially close to the 
 public on Sunday\, September 28 at 4pm.\n\n&nbsp\;
ATTACH;FMTTYPE=image/jpeg:https://forresheritage.co.uk/wp-content/uploads/
 2025/08/NT-light-winter-scaled.jpg
END:VEVENT
BEGIN:VTIMEZONE
TZID:Europe/London
X-LIC-LOCATION:Europe/London
BEGIN:DAYLIGHT
DTSTART:20250330T020000
TZOFFSETFROM:+0000
TZOFFSETTO:+0100
TZNAME:BST
END:DAYLIGHT
END:VTIMEZONE
END:VCALENDAR