BEGIN:VCALENDAR
VERSION:2.0
PRODID:-//wp-events-plugin.com//7.2.3.1//EN
BEGIN:VEVENT
UID:104@forresheritage.co.uk
DTSTART;TZID=Europe/London:20251010T064500
DTEND;TZID=Europe/London:20251010T223000
DTSTAMP:20250828T082139Z
URL:https://forresheritage.co.uk/events/film-honeyland/
SUMMARY:FILM: Honeyland
DESCRIPTION:Feeldwork is bringing a monthly film club to the Tolbooth right
  through to early next year.\n\nFilm Synopsis:\nIn a deserted Macedonian v
 illage\, Hatidze\, a 50-something woman\, trudges up a hillside to check h
 er bee colonies nestled in the rocks. Serenading them with a secret chant\
 , she gently maneuvers the honeycomb without netting or gloves. Back at he
 r homestead\, Hatidze tends to her handmade hives and her bedridden mother
 \, occasionally heading to the capital to market her wares. One day\, an i
 tinerant family installs itself next door\, and Hatidze’s peaceful kingd
 om gives way to roaring engines\, seven shrieking children\, and 150 cows.
  Yet Hatidze welcomes the camaraderie\, and she holds nothing back—not h
 er tried-and-true beekeeping advice\, not her affection\, not her special 
 brandy. But soon Hussein\, the itinerant family’s patriarch\, makes a se
 ries of decisions that could destroy Hatidze’s way of life forever.\nWin
 ner of three awards at the 2019 Sundance Film Festival and nominated for t
 wo Academy Awards at the 2020 Oscars®.\nAll films include Popcorn and Sof
 t Drinks\, you’re welcome to bring anything else to eat and drink too. S
 ome films include a talk &amp\; Q&amp\;A. Ticket Sales cover room hire\, f
 ilm licenses\, food &amp\; paying fairly for Q&amp\;A’s and making this 
 sustainable going forward.\n\nBook here: https://www.seaty.co.uk/Organisat
 ion/forresfilms
ATTACH;FMTTYPE=image/jpeg:https://forresheritage.co.uk/wp-content/uploads/
 2025/08/p16711163_v_h10_aa.jpg
END:VEVENT
BEGIN:VTIMEZONE
TZID:Europe/London
X-LIC-LOCATION:Europe/London
BEGIN:DAYLIGHT
DTSTART:20250330T020000
TZOFFSETFROM:+0000
TZOFFSETTO:+0100
TZNAME:BST
END:DAYLIGHT
END:VTIMEZONE
END:VCALENDAR