BEGIN:VCALENDAR
VERSION:2.0
PRODID:-//wp-events-plugin.com//7.2.3.1//EN
BEGIN:VEVENT
UID:103@forresheritage.co.uk
DTSTART;TZID=Europe/London:20250919T184500
DTEND;TZID=Europe/London:20250919T223000
DTSTAMP:20250828T083236Z
URL:https://forresheritage.co.uk/events/film-wilding/
SUMMARY:FILM - WILDING
DESCRIPTION:Feeldwork is bringing a monthly film club to the Tolbooth right
  through to early next year.\n\nFilm Synopsis: Knepp is a beacon of hope f
 or England’s wildlife. When Isabella and her husband inherited the estat
 e to farm\, they recognised how sick the land was. But a groundbreaking ra
 dical experiment has been nothing short of transformative. Now it’s a pl
 ace where mussel-diving pigs\, storks and butterflies find sanctuary\, and
  where thriving flora and a vast array of animals have taken back the land
 . This is a charming\, hopeful and necessary story of ecological regenerat
 ion.\n\nAll films include Popcorn and Soft Drinks\, you’re welcome to br
 ing anything else to eat and drink too. Some films include a talk &amp\; Q
 &amp\;A. Ticket Sales cover room hire\, film licenses\, food &amp\; paying
  fairly for Q&amp\;A’s and making this sustainable going forward.\n\nBoo
 k here: https://www.seaty.co.uk/Organisation/forresfilms
ATTACH;FMTTYPE=image/jpeg:https://forresheritage.co.uk/wp-content/uploads/
 2025/08/WILDING_3_Issy-and-Pig.jpg
END:VEVENT
BEGIN:VTIMEZONE
TZID:Europe/London
X-LIC-LOCATION:Europe/London
BEGIN:DAYLIGHT
DTSTART:20250330T020000
TZOFFSETFROM:+0000
TZOFFSETTO:+0100
TZNAME:BST
END:DAYLIGHT
END:VTIMEZONE
END:VCALENDAR