BEGIN:VCALENDAR
VERSION:2.0
PRODID:-//wp-events-plugin.com//7.2.3.1//EN
BEGIN:VEVENT
UID:97@forresheritage.co.uk
DTSTART:20250419T110000Z
DTEND:20250419T150000Z
DTSTAMP:20250310T082634Z
URL:https://forresheritage.co.uk/events/free-nelsons-tower-fun-day/
SUMMARY:FREE Nelson's Tower Fun Day
DESCRIPTION:Join us for a FREE fun filled few hours of bouncing\, conquerin
 g\, crafting and face-painting. The Forres Heritage Trust invites you to j
 oin us at the Tower on Cluny Hill\, Forres for some free\, family friendly
  activities. Children (or indeed adults) are encouraged to come dressed as
  kings\, queens or pirates. Children must be accompanied by an adult.
ATTACH;FMTTYPE=image/jpeg:https://forresheritage.co.uk/wp-content/uploads/
 2025/03/FHT-fun-day-cover-1.png
END:VEVENT
END:VCALENDAR