BEGIN:VCALENDAR
VERSION:2.0
PRODID:-//wp-events-plugin.com//7.2.3.1//EN
BEGIN:VEVENT
UID:100@forresheritage.co.uk
DTSTART;TZID=Europe/London:20250913T120000
DTEND;TZID=Europe/London:20250913T160000
DTSTAMP:20250710T124304Z
URL:https://forresheritage.co.uk/events/moray-doors-open-day/
SUMMARY:Moray Doors Open Day
DESCRIPTION:We're extending our opening hours to take part in Moray Doors O
 pen Day. Doors Open Days is Scotland's largest free festival that celebrat
 es places and stories\, new and old and we are delighted to be part of it.
 Visit Nelson's Tower which stands high on Cluny Hill above Grant Park in F
 orres. Erected by public subscription\, the tower was built as a memorial 
 to Admiral Lord Nelson.Why not make a day of it and explore the glorious G
 rant Park which is celebrating 100 years this year. Grant Park has a vibra
 nt playpark\, situated right next to the wonderful Mathers\, where you can
  enjoy ice cream and take in the new colourful mural. How many animals can
  you spot?Next\, you can explore the pretty gardens\, say ‘hi’ to Ben\
 , the wooden piper\, come face to face with a unicorn and enjoy the floral
  displays lovingly created by Forres In Bloom.Once you have completed that
 \, you can explore the tracks around Cluny Hill – you might even find He
 lge’s Hole and even spot a dragon.Your final destination HAS to be Nelso
 n’s Tower – which you can climb to enjoy the views from the top.
ATTACH;FMTTYPE=image/jpeg:https://forresheritage.co.uk/wp-content/uploads/
 2025/02/Nelson-Tower-Lights-mov-image.jpg
END:VEVENT
BEGIN:VTIMEZONE
TZID:Europe/London
X-LIC-LOCATION:Europe/London
BEGIN:DAYLIGHT
DTSTART:20250330T020000
TZOFFSETFROM:+0000
TZOFFSETTO:+0100
TZNAME:BST
END:DAYLIGHT
END:VTIMEZONE
END:VCALENDAR