BEGIN:VCALENDAR
VERSION:2.0
PRODID:-//wp-events-plugin.com//7.2.3.1//EN
BEGIN:VEVENT
UID:85@forresheritage.co.uk
DTSTART:20250213T190000Z
DTEND:20250213T190000Z
DTSTAMP:20250202T154617Z
URL:https://forresheritage.co.uk/events/northumbria-in-the-16th-century-by
 -fiona-lockhart/
SUMMARY:Northumbria in the 16th Century by Fiona Lockhart
DESCRIPTION:Join us in the historic Tolbooth for a talk on Northumbria in t
 he 16th Century by Fiona Lockhart.Tickets are £8 and can booked here: ww
 w.ticketsource.co.uk/forres-heritage-trust
ATTACH;FMTTYPE=image/jpeg:https://forresheritage.co.uk/wp-content/uploads/
 2024/12/Northumberland-1.jpg
END:VEVENT
END:VCALENDAR