BEGIN:VCALENDAR
VERSION:2.0
PRODID:-//wp-events-plugin.com//7.2.3.1//EN
BEGIN:VEVENT
UID:34@forresheritage.co.uk
DTSTART:20221118T100000Z
DTEND:20221118T160000Z
DTSTAMP:20221102T163151Z
URL:https://forresheritage.co.uk/events/the-falconer-museum-stories-in-sto
 ne-2/
SUMMARY:The Falconer Museum: Stories in Stone
DESCRIPTION:Portraits of scientists and luminaires from the Falconer Museum
  facade.\n\nTaking place in the Rent Room.
END:VEVENT
END:VCALENDAR