BEGIN:VCALENDAR
VERSION:2.0
PRODID:-//wp-events-plugin.com//7.2.3.1//EN
BEGIN:VEVENT
UID:3@forresheritage.co.uk
DTSTART:20190130T190000Z
DTEND:20190130T220000Z
DTSTAMP:20181220T174937Z
URL:https://forresheritage.co.uk/events/winter-talk-the-brahan-seer-legend
 /
SUMMARY:Winter Talk - The Brahan Seer Legend
DESCRIPTION:The 'Brahan Seer Legend and the Enduring Power of Prophecy'.\n\
 nJoin us at the Tolbooth for the first of four Winter Talks.\n\nDr Alex Su
 therland will tell the tale of the The Brahan Seer\, a legendary figure fa
 mous for his gift of second sight.\n\nHe is known throughout Scotland and 
 the Scottish Diaspora\; indeed\, anywhere there is an interest in looking 
 into the future.\n\nOver time\, from the seventeenth century to the presen
 t\, numerous prophecies have been attributed to the Brahan Seer.\n\nThe pr
 ophecies describe the changes - some trivial\, some momentous - to Scottis
 h Highland culture and society. These\, in turn\, shaped the legend’s de
 velopment during this period.\n\nCOST: £5 including refreshments. Tickets
  are available from the Forres Area Credit Union premises at 53 High Str
 eet from January 9.
LOCATION:The Tolbooth\, The Tolbooth\, High Street\, Forres\,\, Moray\, IV3
 6 1PH\, Scotland\, United Kingdom
X-APPLE-STRUCTURED-LOCATION;VALUE=URI;X-ADDRESS=The Tolbooth\, High Street\
 , Forres\,\, Moray\, IV36 1PH\, Scotland\, United Kingdom;X-APPLE-RADIUS=1
 00;X-TITLE=The Tolbooth:geo:0,0
END:VEVENT
END:VCALENDAR